BEGIN:VCALENDAR
VERSION:2.0
PRODID:-//hacksw/handcal//NONSGML v1.0//EN
CALSCALE:GREGORIAN
BEGIN:VEVENT
DTSTART:20230607T000000
DTEND:20230607T020000
SUMMARY:LES ÉLUCUBRATIONS D’UN HOMME SOUDAIN FRAPPÉ PAR LA GRÂCE
URL;VALUE=URI:https://radiant-bellevue.fr/spectacles/les-elucubrations-dun-homme-soudain-frappe-par-la-grace/
DTSTAMP:20260423T155936
UID:69ea41e87c382
END:VEVENT
END:VCALENDAR