BEGIN:VCALENDAR
VERSION:2.0
PRODID:-//hacksw/handcal//NONSGML v1.0//EN
CALSCALE:GREGORIAN
BEGIN:VEVENT
DTSTART:20230307T000000
DTEND:20230307T020000
SUMMARY:SPIN-OFF
URL;VALUE=URI:https://radiant-bellevue.fr/spectacles/spin-off/
DTSTAMP:20260420T091020
UID:69e5ed7c912d3
END:VEVENT
END:VCALENDAR