BEGIN:VCALENDAR
VERSION:2.0
PRODID:-//hacksw/handcal//NONSGML v1.0//EN
CALSCALE:GREGORIAN
BEGIN:VEVENT
DTSTART:20230403T000000
DTEND:20230403T020000
SUMMARY:STEPHAN EICHER
URL;VALUE=URI:https://radiant-bellevue.fr/spectacles/stephan-eicher/
DTSTAMP:20260424T182417
UID:69ebb55102534
END:VEVENT
END:VCALENDAR