BEGIN:VCALENDAR
VERSION:2.0
PRODID:-//hacksw/handcal//NONSGML v1.0//EN
CALSCALE:GREGORIAN
BEGIN:VEVENT
DTSTART:20230330T000000
DTEND:20230330T020000
SUMMARY:THOMAS VDB
URL;VALUE=URI:https://radiant-bellevue.fr/spectacles/thomas-vdb/
DTSTAMP:20260420T122853
UID:69e61c05773c2
END:VEVENT
END:VCALENDAR