BEGIN:VCALENDAR
VERSION:2.0
PRODID:-//hacksw/handcal//NONSGML v1.0//EN
CALSCALE:GREGORIAN
BEGIN:VEVENT
DTSTART:20230312T000000
DTEND:20230312T020000
SUMMARY:VOLER DANS LES PLUMES
URL;VALUE=URI:https://radiant-bellevue.fr/spectacles/voler-dans-les-plumes/
DTSTAMP:20260421T092359
UID:69e7422faffb1
END:VEVENT
END:VCALENDAR