BEGIN:VCALENDAR
VERSION:2.0
PRODID:-//hacksw/handcal//NONSGML v1.0//EN
CALSCALE:GREGORIAN
BEGIN:VEVENT
DTSTART:20230514T000000
DTEND:20230514T020000
SUMMARY:LES VIRTUOSES
URL;VALUE=URI:https://radiant-bellevue.fr/spectacles/les-virtuoses/
DTSTAMP:20260421T092727
UID:69e742ff536f4
END:VEVENT
END:VCALENDAR