BEGIN:VCALENDAR
VERSION:2.0
PRODID:-//hacksw/handcal//NONSGML v1.0//EN
CALSCALE:GREGORIAN
BEGIN:VEVENT
DTSTART:20241220T000000
DTEND:20241220T020000
SUMMARY:Art
URL;VALUE=URI:https://radiant-bellevue.fr/spectacles/art/
DTSTAMP:20260420T085524
UID:69e5e9fc21b5b
END:VEVENT
END:VCALENDAR