BEGIN:VCALENDAR
VERSION:2.0
PRODID:-//hacksw/handcal//NONSGML v1.0//EN
CALSCALE:GREGORIAN
BEGIN:VEVENT
DTSTART:20250309T000000
DTEND:20250309T020000
SUMMARY:La chute des anges
URL;VALUE=URI:https://radiant-bellevue.fr/spectacles/la-chute-des-anges/
DTSTAMP:20260421T081341
UID:69e731b5cd3a6
END:VEVENT
END:VCALENDAR