BEGIN:VCALENDAR
VERSION:2.0
PRODID:-//hacksw/handcal//NONSGML v1.0//EN
CALSCALE:GREGORIAN
BEGIN:VEVENT
DTSTART:20250410T000000
DTEND:20250410T020000
SUMMARY:Coupe du monde d&rsquo\;impro F.F.F.
URL;VALUE=URI:https://radiant-bellevue.fr/spectacles/coupe-du-monde-dimpro-f-f-f/
DTSTAMP:20260420T142554
UID:69e63772ce453
END:VEVENT
END:VCALENDAR