BEGIN:VCALENDAR
VERSION:2.0
PRODID:-//hacksw/handcal//NONSGML v1.0//EN
CALSCALE:GREGORIAN
BEGIN:VEVENT
DTSTART:20260323T000000
DTEND:20260323T020000
SUMMARY:Dans les yeux de Monet
URL;VALUE=URI:https://radiant-bellevue.fr/spectacles/dans-les-yeux-de-monet/
DTSTAMP:20260421T082404
UID:69e73424c24d7
END:VEVENT
END:VCALENDAR