BEGIN:VCALENDAR
VERSION:2.0
PRODID:-//hacksw/handcal//NONSGML v1.0//EN
CALSCALE:GREGORIAN
BEGIN:VEVENT
DTSTART:20260329T000000
DTEND:20260329T020000
SUMMARY:Celtic Legends
URL;VALUE=URI:https://radiant-bellevue.fr/spectacles/celtic-legends-2/
DTSTAMP:20260420T103535
UID:69e60177b27f1
END:VEVENT
END:VCALENDAR