BEGIN:VCALENDAR
VERSION:2.0
PRODID:-//hacksw/handcal//NONSGML v1.0//EN
CALSCALE:GREGORIAN
BEGIN:VEVENT
DTSTART:20230404T000000
DTEND:20230404T020000
SUMMARY:STEPHAN EICHER
URL;VALUE=URI:https://radiant-bellevue.fr/spectacles/stephan-eicher/
DTSTAMP:20260424T182249
UID:69ebb4f9d0c98
END:VEVENT
END:VCALENDAR