BEGIN:VCALENDAR
VERSION:2.0
PRODID:-//hacksw/handcal//NONSGML v1.0//EN
CALSCALE:GREGORIAN
BEGIN:VEVENT
DTSTART:20240312T000000
DTEND:20240312T020000
SUMMARY:didoudam
URL;VALUE=URI:https://radiant-bellevue.fr/spectacles/didoudam/
DTSTAMP:20260421T080456
UID:69e72fa808b7a
END:VEVENT
END:VCALENDAR