BEGIN:VCALENDAR
VERSION:2.0
PRODID:-//hacksw/handcal//NONSGML v1.0//EN
CALSCALE:GREGORIAN
BEGIN:VEVENT
DTSTART:20260428T000000
DTEND:20260428T020000
SUMMARY:Comme une image
URL;VALUE=URI:https://radiant-bellevue.fr/spectacles/comme-une-image/
DTSTAMP:20260422T135226
UID:69e8d29a96ec1
END:VEVENT
END:VCALENDAR